Package: multiHiCcompare Version: 1.20.0 Command: rm -rf multiHiCcompare.buildbin-libdir && mkdir multiHiCcompare.buildbin-libdir && /Users/biocbuild/BBS/utils/build-universal.sh multiHiCcompare_1.20.0.tar.gz /Library/Frameworks/R.framework/Resources/bin/R multiHiCcompare.buildbin-libdir StartedAt: 2024-04-18 10:18:24 -0400 (Thu, 18 Apr 2024) EndedAt: 2024-04-18 10:19:09 -0400 (Thu, 18 Apr 2024) EllapsedTime: 45.2 seconds RetCode: 0 Status: OK PackageFile: multiHiCcompare_1.20.0.tgz PackageFileSize: 5.351 MiB