Package: mnem Version: 1.18.0 Command: /Library/Frameworks/R.framework/Resources/bin/R CMD build --keep-empty-dirs --no-resave-data mnem StartedAt: 2024-04-16 22:03:33 -0400 (Tue, 16 Apr 2024) EndedAt: 2024-04-16 22:04:47 -0400 (Tue, 16 Apr 2024) EllapsedTime: 73.6 seconds RetCode: 0 Status: OK PackageFile: mnem_1.18.0.tar.gz PackageFileSize: 4.797 MiB