Package: mnem Version: 1.18.0 Command: rm -rf mnem.buildbin-libdir && mkdir mnem.buildbin-libdir && /Users/biocbuild/BBS/utils/build-universal.sh mnem_1.18.0.tar.gz /Library/Frameworks/R.framework/Resources/bin/R mnem.buildbin-libdir StartedAt: 2024-04-18 10:10:44 -0400 (Thu, 18 Apr 2024) EndedAt: 2024-04-18 10:11:34 -0400 (Thu, 18 Apr 2024) EllapsedTime: 50.1 seconds RetCode: 0 Status: OK PackageFile: mnem_1.18.0.tgz PackageFileSize: 5.514 MiB