Package: methylclock Version: 1.8.0 Command: /Library/Frameworks/R.framework/Resources/bin/R CMD build --keep-empty-dirs --no-resave-data methylclock StartedAt: 2024-04-16 21:34:50 -0400 (Tue, 16 Apr 2024) EndedAt: 2024-04-16 21:49:43 -0400 (Tue, 16 Apr 2024) EllapsedTime: 892.8 seconds RetCode: 0 Status: OK PackageFile: methylclock_1.8.0.tar.gz PackageFileSize: 960.4 KiB