Package: maCorrPlot Version: 1.72.0 Command: /Library/Frameworks/R.framework/Resources/bin/R CMD INSTALL maCorrPlot StartedAt: 2024-04-16 10:04:18 -0400 (Tue, 16 Apr 2024) EndedAt: 2024-04-16 10:04:21 -0400 (Tue, 16 Apr 2024) EllapsedTime: 3.2 seconds RetCode: 0 Status: OK