Package: logitT Version: 1.60.0 Command: rm -rf logitT.buildbin-libdir && mkdir logitT.buildbin-libdir && /Users/biocbuild/BBS/utils/build-universal.sh logitT_1.60.0.tar.gz /Library/Frameworks/R.framework/Resources/bin/R logitT.buildbin-libdir StartedAt: 2024-04-18 09:53:16 -0400 (Thu, 18 Apr 2024) EndedAt: 2024-04-18 09:53:26 -0400 (Thu, 18 Apr 2024) EllapsedTime: 9.2 seconds RetCode: 0 Status: OK PackageFile: logitT_1.60.0.tgz PackageFileSize: 300.5 KiB