Package: hmdbQuery Version: 1.22.0 Command: rm -rf hmdbQuery.buildbin-libdir && mkdir hmdbQuery.buildbin-libdir && /Users/biocbuild/BBS/utils/build-universal.sh hmdbQuery_1.22.0.tar.gz /Library/Frameworks/R.framework/Resources/bin/R hmdbQuery.buildbin-libdir StartedAt: 2024-04-18 09:41:19 -0400 (Thu, 18 Apr 2024) EndedAt: 2024-04-18 09:41:29 -0400 (Thu, 18 Apr 2024) EllapsedTime: 10.0 seconds RetCode: 0 Status: OK PackageFile: hmdbQuery_1.22.0.tgz PackageFileSize: 886.5 KiB