Package: hicVennDiagram Version: 1.0.2 Command: rm -rf hicVennDiagram.buildbin-libdir && mkdir hicVennDiagram.buildbin-libdir && /Users/biocbuild/BBS/utils/build-universal.sh hicVennDiagram_1.0.2.tar.gz /Library/Frameworks/R.framework/Resources/bin/R hicVennDiagram.buildbin-libdir StartedAt: 2024-04-18 09:40:19 -0400 (Thu, 18 Apr 2024) EndedAt: 2024-04-18 09:41:12 -0400 (Thu, 18 Apr 2024) EllapsedTime: 52.9 seconds RetCode: 0 Status: OK PackageFile: hicVennDiagram_1.0.2.tgz PackageFileSize: 1.438 MiB