Package: hiReadsProcessor Version: 1.38.0 Command: /Library/Frameworks/R.framework/Resources/bin/R CMD INSTALL hiReadsProcessor StartedAt: 2024-04-16 10:52:38 -0400 (Tue, 16 Apr 2024) EndedAt: 2024-04-16 10:53:25 -0400 (Tue, 16 Apr 2024) EllapsedTime: 46.4 seconds RetCode: 0 Status: OK