Package: flowMerge Version: 2.50.0 Command: rm -rf flowMerge.buildbin-libdir && mkdir flowMerge.buildbin-libdir && /Users/biocbuild/BBS/utils/build-universal.sh flowMerge_2.50.0.tar.gz /Library/Frameworks/R.framework/Resources/bin/R flowMerge.buildbin-libdir StartedAt: 2024-04-18 09:19:37 -0400 (Thu, 18 Apr 2024) EndedAt: 2024-04-18 09:20:02 -0400 (Thu, 18 Apr 2024) EllapsedTime: 25.2 seconds RetCode: 0 Status: OK PackageFile: flowMerge_2.50.0.tgz PackageFileSize: 1.048 MiB