Package: ctc Version: 1.76.0 Command: rm -rf ctc.buildbin-libdir && mkdir ctc.buildbin-libdir && /Users/biocbuild/BBS/utils/build-universal.sh ctc_1.76.0.tar.gz /Library/Frameworks/R.framework/Resources/bin/R ctc.buildbin-libdir StartedAt: 2024-04-18 08:52:09 -0400 (Thu, 18 Apr 2024) EndedAt: 2024-04-18 08:52:15 -0400 (Thu, 18 Apr 2024) EllapsedTime: 5.6 seconds RetCode: 0 Status: OK PackageFile: ctc_1.76.0.tgz PackageFileSize: 317.4 KiB