Package: cosmiq Version: 1.36.0 Command: rm -rf cosmiq.buildbin-libdir && mkdir cosmiq.buildbin-libdir && /Users/biocbuild/BBS/utils/build-universal.sh cosmiq_1.36.0.tar.gz /Library/Frameworks/R.framework/Resources/bin/R cosmiq.buildbin-libdir StartedAt: 2024-04-18 08:48:43 -0400 (Thu, 18 Apr 2024) EndedAt: 2024-04-18 08:49:47 -0400 (Thu, 18 Apr 2024) EllapsedTime: 64.5 seconds RetCode: 0 Status: OK PackageFile: cosmiq_1.36.0.tgz PackageFileSize: 290.6 KiB