Package: ccrepe Version: 1.38.1 Command: rm -rf ccrepe.buildbin-libdir && mkdir ccrepe.buildbin-libdir && /Users/biocbuild/BBS/utils/build-universal.sh ccrepe_1.38.1.tar.gz /Library/Frameworks/R.framework/Resources/bin/R ccrepe.buildbin-libdir StartedAt: 2024-04-18 08:33:48 -0400 (Thu, 18 Apr 2024) EndedAt: 2024-04-18 08:33:52 -0400 (Thu, 18 Apr 2024) EllapsedTime: 4.7 seconds RetCode: 0 Status: OK PackageFile: ccrepe_1.38.1.tgz PackageFileSize: 359.5 KiB