Package: ccmap Version: 1.28.0 Command: rm -rf ccmap.buildbin-libdir && mkdir ccmap.buildbin-libdir && /Users/biocbuild/BBS/utils/build-universal.sh ccmap_1.28.0.tar.gz /Library/Frameworks/R.framework/Resources/bin/R ccmap.buildbin-libdir StartedAt: 2024-04-18 08:33:19 -0400 (Thu, 18 Apr 2024) EndedAt: 2024-04-18 08:33:46 -0400 (Thu, 18 Apr 2024) EllapsedTime: 27.4 seconds RetCode: 0 Status: OK PackageFile: ccmap_1.28.0.tgz PackageFileSize: 418.2 KiB