Package: canceR Version: 1.36.8 Command: /Library/Frameworks/R.framework/Resources/bin/R CMD build --keep-empty-dirs --no-resave-data canceR StartedAt: 2024-04-16 14:45:37 -0400 (Tue, 16 Apr 2024) EndedAt: 2024-04-16 14:47:17 -0400 (Tue, 16 Apr 2024) EllapsedTime: 100.5 seconds RetCode: 0 Status: OK PackageFile: canceR_1.36.8.tar.gz PackageFileSize: 31.46 MiB