Package: biocViews Version: 1.70.0 Command: rm -rf biocViews.buildbin-libdir && mkdir biocViews.buildbin-libdir && /Users/biocbuild/BBS/utils/build-universal.sh biocViews_1.70.0.tar.gz /Library/Frameworks/R.framework/Resources/bin/R biocViews.buildbin-libdir StartedAt: 2024-04-18 08:24:42 -0400 (Thu, 18 Apr 2024) EndedAt: 2024-04-18 08:24:55 -0400 (Thu, 18 Apr 2024) EllapsedTime: 13.7 seconds RetCode: 0 Status: OK PackageFile: biocViews_1.70.0.tgz PackageFileSize: 880.6 KiB