Package: VariantExperiment Version: 1.16.0 Command: /Library/Frameworks/R.framework/Resources/bin/R CMD INSTALL VariantExperiment StartedAt: 2024-04-16 10:20:57 -0400 (Tue, 16 Apr 2024) EndedAt: 2024-04-16 10:21:29 -0400 (Tue, 16 Apr 2024) EllapsedTime: 32.1 seconds RetCode: 0 Status: OK