Package: TurboNorm Version: 1.50.0 Command: rm -rf TurboNorm.buildbin-libdir && mkdir TurboNorm.buildbin-libdir && /Users/biocbuild/BBS/utils/build-universal.sh TurboNorm_1.50.0.tar.gz /Library/Frameworks/R.framework/Resources/bin/R TurboNorm.buildbin-libdir StartedAt: 2024-04-15 10:52:02 -0400 (Mon, 15 Apr 2024) EndedAt: 2024-04-15 10:52:12 -0400 (Mon, 15 Apr 2024) EllapsedTime: 10.2 seconds RetCode: 0 Status: OK PackageFile: TurboNorm_1.50.0.tgz PackageFileSize: 2.048 MiB