Package: TCGAutils Version: 1.22.2 Command: rm -rf TCGAutils.buildbin-libdir && mkdir TCGAutils.buildbin-libdir && /Users/biocbuild/BBS/utils/build-universal.sh TCGAutils_1.22.2.tar.gz /Library/Frameworks/R.framework/Resources/bin/R TCGAutils.buildbin-libdir StartedAt: 2024-04-15 10:44:59 -0400 (Mon, 15 Apr 2024) EndedAt: 2024-04-15 10:46:00 -0400 (Mon, 15 Apr 2024) EllapsedTime: 60.3 seconds RetCode: 0 Status: OK PackageFile: TCGAutils_1.22.2.tgz PackageFileSize: 514.2 KiB