Package: TCC Version: 1.42.0 Command: rm -rf TCC.buildbin-libdir && mkdir TCC.buildbin-libdir && /Users/biocbuild/BBS/utils/build-universal.sh TCC_1.42.0.tar.gz /Library/Frameworks/R.framework/Resources/bin/R TCC.buildbin-libdir StartedAt: 2024-04-15 10:44:51 -0400 (Mon, 15 Apr 2024) EndedAt: 2024-04-15 10:45:37 -0400 (Mon, 15 Apr 2024) EllapsedTime: 45.8 seconds RetCode: 0 Status: OK PackageFile: TCC_1.42.0.tgz PackageFileSize: 2.992 MiB