Package: TAPseq Version: 1.14.1 Command: /Library/Frameworks/R.framework/Resources/bin/R CMD build --keep-empty-dirs --no-resave-data TAPseq StartedAt: 2024-04-17 03:53:14 -0400 (Wed, 17 Apr 2024) EndedAt: 2024-04-17 03:58:26 -0400 (Wed, 17 Apr 2024) EllapsedTime: 312.1 seconds RetCode: 0 Status: OK PackageFile: TAPseq_1.14.1.tar.gz PackageFileSize: 2.527 MiB