Package: SeqArray Version: 1.42.4 Command: /Library/Frameworks/R.framework/Resources/bin/R CMD build --keep-empty-dirs --no-resave-data SeqArray StartedAt: 2024-04-17 02:32:00 -0400 (Wed, 17 Apr 2024) EndedAt: 2024-04-17 02:36:20 -0400 (Wed, 17 Apr 2024) EllapsedTime: 259.8 seconds RetCode: 0 Status: OK PackageFile: SeqArray_1.42.4.tar.gz PackageFileSize: 3.706 MiB