Package: SCArray Version: 1.10.0 Command: rm -rf SCArray.buildbin-libdir && mkdir SCArray.buildbin-libdir && /Users/biocbuild/BBS/utils/build-universal.sh SCArray_1.10.0.tar.gz /Library/Frameworks/R.framework/Resources/bin/R SCArray.buildbin-libdir StartedAt: 2024-03-07 10:24:39 -0500 (Thu, 07 Mar 2024) EndedAt: 2024-03-07 10:25:38 -0500 (Thu, 07 Mar 2024) EllapsedTime: 58.6 seconds RetCode: 0 Status: OK PackageFile: SCArray_1.10.0.tgz PackageFileSize: 2.277 MiB