Package: Rgraphviz Version: 2.46.0 Command: rm -rf Rgraphviz.buildbin-libdir && mkdir Rgraphviz.buildbin-libdir && /Users/biocbuild/BBS/utils/build-universal.sh Rgraphviz_2.46.0.tar.gz /Library/Frameworks/R.framework/Resources/bin/R Rgraphviz.buildbin-libdir StartedAt: 2024-04-18 10:51:25 -0400 (Thu, 18 Apr 2024) EndedAt: 2024-04-18 10:56:10 -0400 (Thu, 18 Apr 2024) EllapsedTime: 284.7 seconds RetCode: 0 Status: OK PackageFile: Rgraphviz_2.46.0.tgz PackageFileSize: 1.682 MiB