Package: Repitools Version: 1.48.0 Command: /Library/Frameworks/R.framework/Resources/bin/R CMD INSTALL Repitools StartedAt: 2024-04-16 12:18:11 -0400 (Tue, 16 Apr 2024) EndedAt: 2024-04-16 12:19:10 -0400 (Tue, 16 Apr 2024) EllapsedTime: 59.1 seconds RetCode: 0 Status: OK