Package: RcisTarget Version: 1.22.0 Command: rm -rf RcisTarget.buildbin-libdir && mkdir RcisTarget.buildbin-libdir && /Users/biocbuild/BBS/utils/build-universal.sh RcisTarget_1.22.0.tar.gz /Library/Frameworks/R.framework/Resources/bin/R RcisTarget.buildbin-libdir StartedAt: 2024-04-18 10:46:19 -0400 (Thu, 18 Apr 2024) EndedAt: 2024-04-18 10:47:16 -0400 (Thu, 18 Apr 2024) EllapsedTime: 56.7 seconds RetCode: 0 Status: OK PackageFile: RcisTarget_1.22.0.tgz PackageFileSize: 13 MiB