Package: ROCpAI Version: 1.14.0 Command: rm -rf ROCpAI.buildbin-libdir && mkdir ROCpAI.buildbin-libdir && /Users/biocbuild/BBS/utils/build-universal.sh ROCpAI_1.14.0.tar.gz /Library/Frameworks/R.framework/Resources/bin/R ROCpAI.buildbin-libdir StartedAt: 2024-04-18 11:00:32 -0400 (Thu, 18 Apr 2024) EndedAt: 2024-04-18 11:01:05 -0400 (Thu, 18 Apr 2024) EllapsedTime: 33.0 seconds RetCode: 0 Status: OK PackageFile: ROCpAI_1.14.0.tgz PackageFileSize: 464.7 KiB