Package: RCAS Version: 1.28.3 Command: rm -rf RCAS.buildbin-libdir && mkdir RCAS.buildbin-libdir && /Users/biocbuild/BBS/utils/build-universal.sh RCAS_1.28.3.tar.gz /Library/Frameworks/R.framework/Resources/bin/R RCAS.buildbin-libdir StartedAt: 2024-04-18 10:45:54 -0400 (Thu, 18 Apr 2024) EndedAt: 2024-04-18 10:47:07 -0400 (Thu, 18 Apr 2024) EllapsedTime: 72.9 seconds RetCode: 0 Status: OK PackageFile: RCAS_1.28.3.tgz PackageFileSize: 2.111 MiB