Package: RBioFormats Version: 1.2.0 Command: rm -rf RBioFormats.buildbin-libdir && mkdir RBioFormats.buildbin-libdir && /Users/biocbuild/BBS/utils/build-universal.sh RBioFormats_1.2.0.tar.gz /Library/Frameworks/R.framework/Resources/bin/R RBioFormats.buildbin-libdir StartedAt: 2024-04-18 10:45:22 -0400 (Thu, 18 Apr 2024) EndedAt: 2024-04-18 10:45:37 -0400 (Thu, 18 Apr 2024) EllapsedTime: 14.9 seconds RetCode: 0 Status: OK PackageFile: RBioFormats_1.2.0.tgz PackageFileSize: 518.1 KiB