Package: Prostar Version: 1.34.7 Command: /Library/Frameworks/R.framework/Resources/bin/R CMD INSTALL Prostar StartedAt: 2024-04-16 12:48:28 -0400 (Tue, 16 Apr 2024) EndedAt: 2024-04-16 12:48:29 -0400 (Tue, 16 Apr 2024) EllapsedTime: 1.4 seconds RetCode: 1 Status: ERROR