Package: OpenStats Version: 1.14.0 Command: rm -rf OpenStats.buildbin-libdir && mkdir OpenStats.buildbin-libdir && /Users/biocbuild/BBS/utils/build-universal.sh OpenStats_1.14.0.tar.gz /Library/Frameworks/R.framework/Resources/bin/R OpenStats.buildbin-libdir StartedAt: 2024-04-18 10:28:15 -0400 (Thu, 18 Apr 2024) EndedAt: 2024-04-18 10:28:37 -0400 (Thu, 18 Apr 2024) EllapsedTime: 21.8 seconds RetCode: 0 Status: OK PackageFile: OpenStats_1.14.0.tgz PackageFileSize: 916.6 KiB