Package: OncoScore Version: 1.30.0 Command: /Library/Frameworks/R.framework/Resources/bin/R CMD build --keep-empty-dirs --no-resave-data OncoScore StartedAt: 2024-04-16 23:10:44 -0400 (Tue, 16 Apr 2024) EndedAt: 2024-04-16 23:12:03 -0400 (Tue, 16 Apr 2024) EllapsedTime: 79.1 seconds RetCode: 0 Status: OK PackageFile: OncoScore_1.30.0.tar.gz PackageFileSize: 916.5 KiB