Package: OSAT Version: 1.50.0 Command: /Library/Frameworks/R.framework/Resources/bin/R CMD build --keep-empty-dirs --no-resave-data OSAT StartedAt: 2024-04-16 23:21:58 -0400 (Tue, 16 Apr 2024) EndedAt: 2024-04-16 23:22:45 -0400 (Tue, 16 Apr 2024) EllapsedTime: 47.4 seconds RetCode: 0 Status: OK PackageFile: OSAT_1.50.0.tar.gz PackageFileSize: 959.6 KiB