Package: MSstatsQCgui Version: 1.22.0 Command: /Library/Frameworks/R.framework/Resources/bin/R CMD INSTALL MSstatsQCgui StartedAt: 2024-04-16 11:46:33 -0400 (Tue, 16 Apr 2024) EndedAt: 2024-04-16 11:46:54 -0400 (Tue, 16 Apr 2024) EllapsedTime: 21.0 seconds RetCode: 0 Status: OK