Package: MSstatsQCgui Version: 1.22.0 Command: /Library/Frameworks/R.framework/Resources/bin/R CMD build --keep-empty-dirs --no-resave-data MSstatsQCgui StartedAt: 2024-04-16 22:27:51 -0400 (Tue, 16 Apr 2024) EndedAt: 2024-04-16 22:28:15 -0400 (Tue, 16 Apr 2024) EllapsedTime: 24.6 seconds RetCode: 0 Status: OK PackageFile: MSstatsQCgui_1.22.0.tar.gz PackageFileSize: 75.36 KiB