Package: MSstatsQCgui Version: 1.22.0 Command: rm -rf MSstatsQCgui.buildbin-libdir && mkdir MSstatsQCgui.buildbin-libdir && /Users/biocbuild/BBS/utils/build-universal.sh MSstatsQCgui_1.22.0.tar.gz /Library/Frameworks/R.framework/Resources/bin/R MSstatsQCgui.buildbin-libdir StartedAt: 2024-04-18 10:17:34 -0400 (Thu, 18 Apr 2024) EndedAt: 2024-04-18 10:18:00 -0400 (Thu, 18 Apr 2024) EllapsedTime: 26.2 seconds RetCode: 0 Status: OK PackageFile: MSstatsQCgui_1.22.0.tgz PackageFileSize: 85.28 KiB