Package: LOBSTAHS Version: 1.28.0 Command: rm -rf LOBSTAHS.buildbin-libdir && mkdir LOBSTAHS.buildbin-libdir && /Users/biocbuild/BBS/utils/build-universal.sh LOBSTAHS_1.28.0.tar.gz /Library/Frameworks/R.framework/Resources/bin/R LOBSTAHS.buildbin-libdir StartedAt: 2024-04-18 09:53:12 -0400 (Thu, 18 Apr 2024) EndedAt: 2024-04-18 09:54:22 -0400 (Thu, 18 Apr 2024) EllapsedTime: 70.2 seconds RetCode: 0 Status: OK PackageFile: LOBSTAHS_1.28.0.tgz PackageFileSize: 1.989 MiB