Package: IntramiRExploreR Version: 1.24.0 Command: /Library/Frameworks/R.framework/Resources/bin/R CMD build --keep-empty-dirs --no-resave-data IntramiRExploreR StartedAt: 2024-04-16 20:27:32 -0400 (Tue, 16 Apr 2024) EndedAt: 2024-04-16 20:28:04 -0400 (Tue, 16 Apr 2024) EllapsedTime: 31.8 seconds RetCode: 0 Status: OK PackageFile: IntramiRExploreR_1.24.0.tar.gz PackageFileSize: 8.901 MiB