Package: IntEREst Version: 1.26.0 Command: /Library/Frameworks/R.framework/Resources/bin/R CMD build --keep-empty-dirs --no-resave-data IntEREst StartedAt: 2024-04-16 20:26:46 -0400 (Tue, 16 Apr 2024) EndedAt: 2024-04-16 20:29:10 -0400 (Tue, 16 Apr 2024) EllapsedTime: 143.4 seconds RetCode: 0 Status: OK PackageFile: IntEREst_1.26.0.tar.gz PackageFileSize: 1.439 MiB