Package: INSPEcT Version: 1.32.1 Command: /Library/Frameworks/R.framework/Resources/bin/R CMD build --keep-empty-dirs --no-resave-data INSPEcT StartedAt: 2024-04-16 20:24:00 -0400 (Tue, 16 Apr 2024) EndedAt: 2024-04-16 20:31:24 -0400 (Tue, 16 Apr 2024) EllapsedTime: 444.1 seconds RetCode: 0 Status: OK PackageFile: INSPEcT_1.32.1.tar.gz PackageFileSize: 58.56 MiB