Package: GeneRegionScan Version: 1.58.0 Command: /Library/Frameworks/R.framework/Resources/bin/R CMD build --keep-empty-dirs --no-resave-data GeneRegionScan StartedAt: 2024-04-16 18:42:15 -0400 (Tue, 16 Apr 2024) EndedAt: 2024-04-16 18:42:59 -0400 (Tue, 16 Apr 2024) EllapsedTime: 44.4 seconds RetCode: 0 Status: OK PackageFile: GeneRegionScan_1.58.0.tar.gz PackageFileSize: 7.481 MiB