Package: GEOquery Version: 2.70.0 Command: rm -rf GEOquery.buildbin-libdir && mkdir GEOquery.buildbin-libdir && /Users/biocbuild/BBS/utils/build-universal.sh GEOquery_2.70.0.tar.gz /Library/Frameworks/R.framework/Resources/bin/R GEOquery.buildbin-libdir StartedAt: 2024-04-18 09:29:09 -0400 (Thu, 18 Apr 2024) EndedAt: 2024-04-18 09:29:23 -0400 (Thu, 18 Apr 2024) EllapsedTime: 13.7 seconds RetCode: 0 Status: OK PackageFile: GEOquery_2.70.0.tgz PackageFileSize: 13.27 MiB