Package: FuseSOM Version: 1.4.0 Command: /Library/Frameworks/R.framework/Resources/bin/R CMD INSTALL FuseSOM StartedAt: 2024-04-16 12:44:26 -0400 (Tue, 16 Apr 2024) EndedAt: 2024-04-16 12:44:59 -0400 (Tue, 16 Apr 2024) EllapsedTime: 33.4 seconds RetCode: 0 Status: OK