Package: FuseSOM Version: 1.4.0 Command: rm -rf FuseSOM.buildbin-libdir && mkdir FuseSOM.buildbin-libdir && /Users/biocbuild/BBS/utils/build-universal.sh FuseSOM_1.4.0.tar.gz /Library/Frameworks/R.framework/Resources/bin/R FuseSOM.buildbin-libdir StartedAt: 2024-04-18 09:21:09 -0400 (Thu, 18 Apr 2024) EndedAt: 2024-04-18 09:21:51 -0400 (Thu, 18 Apr 2024) EllapsedTime: 42.4 seconds RetCode: 0 Status: OK PackageFile: FuseSOM_1.4.0.tgz PackageFileSize: 2.715 MiB