Package: DExMA Version: 1.10.7 Command: /Library/Frameworks/R.framework/Resources/bin/R CMD INSTALL DExMA StartedAt: 2024-04-16 12:15:33 -0400 (Tue, 16 Apr 2024) EndedAt: 2024-04-16 12:16:03 -0400 (Tue, 16 Apr 2024) EllapsedTime: 29.9 seconds RetCode: 0 Status: OK