Package: CoverageView Version: 1.40.0 Command: /Library/Frameworks/R.framework/Resources/bin/R CMD build --keep-empty-dirs --no-resave-data CoverageView StartedAt: 2024-04-16 16:16:17 -0400 (Tue, 16 Apr 2024) EndedAt: 2024-04-16 16:17:31 -0400 (Tue, 16 Apr 2024) EllapsedTime: 73.7 seconds RetCode: 0 Status: OK PackageFile: CoverageView_1.40.0.tar.gz PackageFileSize: 2.554 MiB