Package: CoverageView Version: 1.40.0 Command: rm -rf CoverageView.buildbin-libdir && mkdir CoverageView.buildbin-libdir && /Users/biocbuild/BBS/utils/build-universal.sh CoverageView_1.40.0.tar.gz /Library/Frameworks/R.framework/Resources/bin/R CoverageView.buildbin-libdir StartedAt: 2024-04-18 08:49:30 -0400 (Thu, 18 Apr 2024) EndedAt: 2024-04-18 08:50:20 -0400 (Thu, 18 Apr 2024) EllapsedTime: 49.5 seconds RetCode: 0 Status: OK PackageFile: CoverageView_1.40.0.tgz PackageFileSize: 2.96 MiB