Package: ClusterSignificance Version: 1.30.0 Command: rm -rf ClusterSignificance.buildbin-libdir && mkdir ClusterSignificance.buildbin-libdir && /Users/biocbuild/BBS/utils/build-universal.sh ClusterSignificance_1.30.0.tar.gz /Library/Frameworks/R.framework/Resources/bin/R ClusterSignificance.buildbin-libdir StartedAt: 2024-04-18 08:42:21 -0400 (Thu, 18 Apr 2024) EndedAt: 2024-04-18 08:42:29 -0400 (Thu, 18 Apr 2024) EllapsedTime: 8.0 seconds RetCode: 0 Status: OK PackageFile: ClusterSignificance_1.30.0.tgz PackageFileSize: 2.304 MiB