Package: ChIPsim Version: 1.56.0 Command: /Library/Frameworks/R.framework/Resources/bin/R CMD INSTALL ChIPsim StartedAt: 2024-04-16 10:58:44 -0400 (Tue, 16 Apr 2024) EndedAt: 2024-04-16 10:59:21 -0400 (Tue, 16 Apr 2024) EllapsedTime: 37.3 seconds RetCode: 0 Status: OK