Package: COCOA Version: 2.16.0 Command: /Library/Frameworks/R.framework/Resources/bin/R CMD build --keep-empty-dirs --no-resave-data COCOA StartedAt: 2024-04-16 15:45:53 -0400 (Tue, 16 Apr 2024) EndedAt: 2024-04-16 15:48:07 -0400 (Tue, 16 Apr 2024) EllapsedTime: 134.1 seconds RetCode: 0 Status: OK PackageFile: COCOA_2.16.0.tar.gz PackageFileSize: 3.457 MiB